BEGIN:VCALENDAR
VERSION:2.0
PRODID:-//Enduro Adventure Organisation - ECPv6.9.0//NONSGML v1.0//EN
CALSCALE:GREGORIAN
METHOD:PUBLISH
X-WR-CALNAME:Enduro Adventure Organisation
X-ORIGINAL-URL:https://www.eaob.eu
X-WR-CALDESC:Evenementen voor Enduro Adventure Organisation
REFRESH-INTERVAL;VALUE=DURATION:PT1H
X-Robots-Tag:noindex
X-PUBLISHED-TTL:PT1H
BEGIN:VTIMEZONE
TZID:Europe/Paris
BEGIN:DAYLIGHT
TZOFFSETFROM:+0100
TZOFFSETTO:+0200
TZNAME:CEST
DTSTART:20240331T010000
END:DAYLIGHT
BEGIN:STANDARD
TZOFFSETFROM:+0200
TZOFFSETTO:+0100
TZNAME:CET
DTSTART:20241027T010000
END:STANDARD
END:VTIMEZONE
BEGIN:VEVENT
DTSTART;VALUE=DATE:20240420
DTEND;VALUE=DATE:20240429
DTSTAMP:20260423T045834
CREATED:20210514T093729Z
LAST-MODIFIED:20240528T115148Z
UID:1649-1713571200-1714348799@www.eaob.eu
SUMMARY:Epirus Mountainbike Challenge 2025
DESCRIPTION:Epirus 2025: Nieuwe datum voor 2025 weldra bekent !!!\n\n\n\n \nhttps://www.epirusmtb.com/
URL:https://www.eaob.eu/event/epirus-mountainbike-challenge-2024/
CATEGORIES:Mountainbike
ATTACH;FMTTYPE=image/png:https://www.eaob.eu/wp-content/uploads/2021/05/logo-epirus-mountainbike.png
ORGANIZER;CN="EAO & MFA":MAILTO:eaorrt@gmail.com
END:VEVENT
END:VCALENDAR