BEGIN:VCALENDAR
VERSION:2.0
PRODID:-//Enduro Adventure Organisation - ECPv6.9.0//NONSGML v1.0//EN
CALSCALE:GREGORIAN
METHOD:PUBLISH
X-ORIGINAL-URL:https://www.eaob.eu
X-WR-CALDESC:Evenementen voor Enduro Adventure Organisation
REFRESH-INTERVAL;VALUE=DURATION:PT1H
X-Robots-Tag:noindex
X-PUBLISHED-TTL:PT1H
BEGIN:VTIMEZONE
TZID:UTC
BEGIN:STANDARD
TZOFFSETFROM:+0000
TZOFFSETTO:+0000
TZNAME:UTC
DTSTART:20220101T000000
END:STANDARD
END:VTIMEZONE
BEGIN:VEVENT
DTSTART;VALUE=DATE:20221024
DTEND;VALUE=DATE:20221112
DTSTAMP:20260422T081847
CREATED:20210214T085348Z
LAST-MODIFIED:20231207T170122Z
UID:1603-1666569600-1668211199@www.eaob.eu
SUMMARY:Africa Eco Race Niet meer op EAO agenda
DESCRIPTION:Momenteel niet opgenomen in de EAO kalender 2023 !!! \nEnkel mogelijk als prive team prijs op aanvraag . \nMonaco / Dakar  \n \nDe enige echte Dakar is in Africa en eindigt dan ook in Dakar. \nMeer dan 6500km\, van Monaco naar Sete / Nador\, Marokko\, Mauritanië eindigend Lac Rose\, Dakar Senegal. \nIn de sporen van Thierry Sabine. \n \nEditie 2021 geannuleerd vanwege het Covid 19 virus maar we zijn reeds bezig met de voorbereidingen 2022. \nDankzij een goed team en een goede samenwerking brengen wij onze piloten aan de finish. \nVoor EAO is 2022 reeds onze zevende deelname en hebben dus al heel wat ervaring met deze race. \n \nHet EAO succes zet zich verder. \nMartin Fontyn team manager en eigenaar van EAO heeft reeds meer dan twintig jaar ervaring in het rally wereldje. \nMartin won in het verleden ook enkele grote rally’s waaronder ook de Africa Race 2013. \nHij deelt graag zijn ervaringen met EAO team rijders. \nIn 2019 bestond het EAO team uit een internationaal gezelschap ! Rijders uit China\, Canada\, United Kingdom\, Italië\, Austria en zwitserland. \nOns success komt er door de vele ervaring en ook kleine details die in andere teams niet toegepast worden. \nZo hebben we bijvoorbeeld een unit met douche en verwarming in de truck geplaatst. \nOok onze easy up tentjes zijn voorzien van verwarming tijdens de eerste koude nachten in het noorden van Morocco. \nWij helpen U graag van A tot Z voor deze rally ! Dit gaat vanaf de voorbereiding\, administratie\, voeding\, training\, opbouw motorfiets ect. \nEen mooie grote service truck is voorzien met alles wat men nodig heeft om op een comfortabele manier piloten tijdens een rally te begeleiden. \nDe piloten slapen in mooie grote tenten waarin ze kunnen rechtstaan en veel plaats hebben. \n \nDagelijks krijgen onze piloten een heerlijke pasta of dergelijks aangeboden van zodra ze in het bivaque komen. \nS’morgens een verse tosti of pannenkoek met een heerlijke kop verse koffie of thee. \nAlle drankjes staan steeds gekoeld en zijn gratis ter beschikking. \nAllerhande snacks zijn ook steeds gratis te nemen. \nIedere pilot ontvangt ook gratis teamkledij ! (Gel jacket\, sweater hoodie\, polo\, Tshirt) \nKlinkt misschien allemaal wat luxueus maar is toch wel een pluspunt om iets beter het einde te bereiken. \n \nDe catering van de organisatie is ook elke dag open vanaf 20:00h. \nWe verwelkomen U ook graag in ons team in de volgende editie. \nElk jaar doen we nieuwe ideeën op en vernieuwen we meerdere dingen in en rond onze service truck. \n \nNa onze zevende deelname in de Africa Eco Race weten we ondertussen al hoe het er aan toe gaat in de AER en zijn we er vriend aan huis. \nDoordat we een goede band hebben met de organisatie kunnen probleempjes gemakkelijk worden opgelost. \nWe helpen U dus graag bij het aanmelden en eventuele taal problemen. \nMartin Fontyn de team manager spreekt Nederlands\, Engles\, Frans\, Duits en beetje Italiaans. \nBriefings en administratieve zaken zijn steeds in het Engels en Frans. \nGraag helpen wij onze klanten hierdoor heen. \n \nIndien U dus een zorgeloze Africa Eco Race wil rijden !? EAO Racing Rally Team. \n \nDeze tenten zijn uniek ! Iedere EAO rijder slaapt in een 4 persoons tent met twee compartimenten. \n1 tent per persoon dus veel plaats en je kan er ook in recht staan ! \nDe race: \nDe Africa Eco Race is eigenlijk de oude Dakar rally die van Monaco naar Dakar gereden word. \nIn Marokko mooie pistes en enkele duinen passages. \nIn Mauritanië veel duinen en zand. \nIn Senegal de bekende strand race met de finish aan Lac Rose Dakar. \nDe organisatoren zijn niet minder dan jean Louis Schlesser\, René Metge. \nAER crew bestaat uit meer dan  150 mensen die deze top rally tot in de puntjes verzorgen. \nDrie helikopters\, meerdere dokter teams\, Iritrack en GPS Unik 2 backup geeft je een veilig gevoel. \nSnacks prepare in the EAO Truck / Back ground the Shower unit \n \nDe route:  \nHet Administratief en technisch gebeuren is in Menton op 15 minuten van Monaco. \nHet gesloten rennerspark is in de haven van Monaco waar ook de officiële start wordt gegeven. \nDaarna gaat het vanuit Monaco naar de haven van Genova Italië waar alle deelnemers en organisatie de ferry naar Marokko nemen. \nStart eerste etappe is in Nador Noord Marokko\, Mauritanië tot in Senegal Dakar. \nEen mooie route van meer dan 6500 km waarvan merendeels offroad en speciale etappes. \nMap 2020 new map 2022 Soon \n \nTiming: for 2022 coming soon \n \n \nPrijzen EAO Service Team / AER 2022: \n Opgelet maximum 8 Piloten !!! \n \nPrijzen AER 2022 : \nDe entry fee voor de race zelf vinden op de site van de AER of kijk ook op de tabel hieronder.\nHier komt ook nog huurkost van Iritrack en GPS van de ERTF bij. ongeveer 1100€ voor beide toestellen gps Unik2 en Iritrack.\nOok waarborgen via credit card worden hiervoor gevraagd. Deze worden niet van uw rekening genomen zolang je de zaken in goede toestand terug bezorgd.\nWij helpen U graag om deze administratie op een gemakkelijk en goede manier te verwerken. \n  \nPrice Entry Fee AER 2022 / soon   \n \nVoor Quad\, Car\, SSV\, Truck klik hier \nINFO: \nMartin Fontyn \nPhone: 0032 0 487638060 \neaorrt@gmail.com \nPrijzen service voor SSV \, Quad\, 4×4 op aanvraag \nMedia: \nDagelijks reportage op Eurosport en Motors TV + RTL 7 + andere \n  \n\n\n\n\n\n  \n \n  \nWinner edition 2013 \n \nEAO Team Edition 2019 \n \n  \n 
URL:https://www.eaob.eu/event/africa-eco-race-2022-team-eao/
LOCATION:Monaco / Dakar
CATEGORIES:Rally's
END:VEVENT
BEGIN:VEVENT
DTSTART;VALUE=DATE:20230603
DTEND;VALUE=DATE:20230611
DTSTAMP:20260422T081847
CREATED:20210214T085635Z
LAST-MODIFIED:20231207T165844Z
UID:1607-1685750400-1686441599@www.eaob.eu
SUMMARY:Albanië Rally 2024 Niet op EAO agenda
DESCRIPTION:Van 3 juni tot 10 juni 2023 \nDe Rally: \nIn 2023 is de Albania Rally al aan zijn 19é editie toe. \nHet is een super mooie rally met afwisselend parcours. \nRedelijk technisch en medium zware rally. \nIn 2023 is de start niet in Tirana maar in Shëngjin. \nDe aankomst is in Tirana. \nHet zijn enorme diverse routes\, van gravel\, stranden\, bergpaden etc. \nHet EAO Rally Team zal ook in 2023 weer een assistance service pakket voorstellen. \nBekijk daarom onze aangepaste tarieven voor 2023 en U zal zien dat Albania rally een budget vriendelijke rally is. \nDe Route:  \n \nAgenda: \n02 June\, Friday \nOPENING OF THE BIVOUAC \nBivouac 1\, Shëngjin \n03 June\, Saturday  \n\nStart Ceremony and Prologue \nBivouac 1\, SHËNGJIN \n04 June\, Sunday  \nSTAGE 1 (390 km) \nBivouac 2\, VOSKOPOJA \n05 June\, Monday \nSTAGE 2 (180 km) \nBivouac 2\, VOSKOPOJA \n06 June\, Tuesday \nSTAGE 3 (330 km) \nBivouac 3\, ORIKUM \n07 June\, Wednesday \nSTAGE 4 (85 km) \nBivouac 3\, ORIKUM \n08 June\, Thursday \nSTAGE 5 (80 km) \nBivouac 4\, BERAT \n09 June\, Friday \nSTAGE 6 (270 km) \nBivouac 5\, TIRANA \n10 June\, Saturday \nEPILOGUE (130 km)  \nBivouac 5\, TIRANA \nVoor wie: \n\nHet is een ‘license free’ rally\, dat wil zeggen dat iedereen met een motor\, quad of jeep kan deelnemen mits in bezit van een rijbewijs.\nDe rally is voor alle nivau rijders; van beginner tot professional.\nOndanks dat de meeste deelnemers meedoen op een lichte enduro motor is er ook een klassement voor de zwaardere motoren en voor vrouwen.\nDe motor\, quad of jeep moet voorzien zijn van roadbookhouder en tripmaster. Een actieradius van 160km is voldoende. \nGeen GPS nodig ! \n \nClasse indeling: Classe pro / classe lite* \n\nCLASS 1 (under 450) – All type of Bikes with engine volume under 450 cc\nCLASS 2 (450-600) – All type of Bikes with engine volume between 451cc – 600 cc\nCLASS 3 (over 600) – All type of Bikes with engine volume over 600 cc and with single cylinder.\nCLASS 4 (bicylinder) – All type of Bikes with engine configuration with more than one cylinder and over 600 cc\nCLASS 5 (veterans V1) – Any type of Bike with engine volume under 450 cc driven by an pilot born before 1 January 1966.\nCLASS 6 (veterans V2) – Any type of Bike other than those included in Class 5 driven by an pilot born before 1 January 1966.\nCLASS 7 (women) – Any type of Bike driven by an female pilot.\n\n\n*Classe lite heeft nog eens dezelfde classe verdeling zolas in de Pro maar de classe lite zijn de routes ingekort.\n\n\nService team EAO:\nZoals altijd verwennen wij onze rijders na een zware dag met een lichte lunch.\nDit gaat van een pasta gerecht en of heerlijke sandwish en soms wel een lekkere tonijnsla met zelf gemaakte fritjes.\nTerwijl onze monteur aan je motor sleutelt kan je lekker tot je zelf komen met die lekkere hap en een frisse cola of biertje. \nTarieven: \n \nPrijs Quad\, SSV\, 4×4 auto op aanvraag \nInschrijven of meer informatie: \nEmail: eaorrt@gmail.com
URL:https://www.eaob.eu/event/albanie-rally-2021/
CATEGORIES:Rally's
END:VEVENT
BEGIN:VEVENT
DTSTART;VALUE=DATE:20270313
DTEND;VALUE=DATE:20270321
DTSTAMP:20260422T081847
CREATED:20260125T090116Z
LAST-MODIFIED:20260128T162313Z
UID:1612-1804896000-1805587199@www.eaob.eu
SUMMARY:Tuareg Rally 2027
DESCRIPTION:    \n\n\n\nTuareg maart 2027: \nIn 2027 gaat het EAO voor het eerst in jaren terug naar de Tuareg rally.\nVoor de Corona was ons team EAO een gevestigde waarde in deze rally.\nVan dag 1 (1998) waren we erbij.\nIkzelf Martin Fontyn heb deze rally wel meer dan 13 maal gereden.\nDe Duitse organisator Rainer Autenrieth heb ik leren kennen in 1997 tijdens een andere rally in Marokko.\nHij heeft me toen gevraagd zijn rally te promoten in de Benelux en omringende landen.\nOm het kort te houden een super goed georganiseerde rally en een aanrader als beginnende rally rijder.\nNiet omdat het een simpele rally is maar omdat je in verschillende categorieën kan inschrijven. \n \nConcept: \nBeste kan je er naar toe met een service team.\nOvernachtingen zijn voorzien in hotels.\nDe deelnemers kunnen vliegen op Errachidia (100km) of Fes (300km).\nTegen we ons team volledig kennen kan EAO wel voor een prijsje een Shuttle regelen.\nWie wil vliegen op Errachidia kan dan best een vlucht boeken met Royal Air Maroc.\nDie vliegen vanuit Brussel of Amsterdam naar Cassablanca en dan met binnenlandse vlucht naar Errachidia.\nDe service teams gaan per ferry naar Nador en dan naar Erfoud waar de start is.\nTer info dit is 3500km vanuit België.\nHeen en terug heeft het service team dan 8000km te rijden! \nRoute: \n \n \nGroepen: \n\n\n\n\n\n\n\n\n\nEAO Service Team: \nPrijzen: \nDe prijs inschrijving voor de rally zelf kan je terug vinden op de website. \nhttps://www.tuareg-rallye.com/en/ \nDe prijzen service en transport Team EAO zie hier onderaan. \nTransport voertuig en bagage: \n\nMotorfiets tot 550cc* = 1500€\nQuad = 2250€\nSSV = 3250€\nAuto = op aanvraag\n\n*  Motorfiets van >550cc of Rally Replica modellen = + 500€ \n \nTarief mekanieker service:\n \n\nMotorfiets  = 1250€\nQuad =  1550€\nSSV =  1950€\nAuto = op aanvraag\n\nPrijzen geldig 30 april 2026 \n\nDaarna elke maand 10% omhoog!\n\n\n\n\nKorting 10% !!!???*\nBij betaling totaal bedrag bij boeking kan je 10% in mindering brengen.\n\n\n\nNormale reservering is met een aanbetaling van 20% bij boeking en restbedrag voor einde januari 2027.\n* Enkel op het EAO gedeelte niet van toepassing op het tarief Tuareg Rally deelname.\n\nVraag uw persoonlijke offerte !!!\n\n\n\nWaarom met EAO :\n\nSimply the best.\nProfessioneel team.\nBeste materialen.\nGratis frisdrank en lunch direct na het rijden.\nWij bieden U het beste voor een faire prijs.\nMartin Fontyn manager van het EAO team met 40 jaar ervaring en zelf winnaar van verschillende rally’s\, is steeds standby om U te helpen waar nodig.\nZeer ervaren mekaniekers.\nMet EAO behaal je betere resultaten !\nLaat U niet afschrikken er zijn ook beginners in onze groep die wij niet verwaarlozen maar integendeel veel proberen bij te leren zodat zij op een dag ook bij de winnaars horen.\nWij informeren U van A tot Z . Voorbereiding \, voeding \, opbouw motorfiets ect je vraagt het ons gewoon.\n\n\nMotorfiets:\nDe Tuareg Rally kan je rijden met elke offroad motor die in orde is om ook op de openbare weg te rijden.\nEen lichte omgebouwde enduro fiets is een aanrader maar geen must.\nAktieradius in deze rally is 180km.\n\n\n\n\n\n\n\n\n\nNavigatie:\n\nDe navigatie gebeurt via GPS\, roadbook en Tripmaster.\nHet roadbook wordt vóór het evenement digitaal aangeleverd.\nU kunt het roadbook thuis op de klassieke manier afdrukken of digitaal gebruiken in een roadbook-app.\nDe door ons aanbevolen roadbook-app “Rally Navigator” is gratis te downloaden via de App Store of Google Play. Samen met het roadbook ontvangt u ook de GPS-gegevens (duinen + controlepunten). \n \n\nRentbike: \n\nPrijs op aanvraag\nMogelijkheid tot huren van een motorfiets\n\n\n\n\n\n\n\n\n\nInfo:\nMartin Fontyn\n+32 (0) 487638060\neaorrt@gmail.com\n\n\nAanmelden Tuareg Rally 2027 / EAO service team
URL:https://www.eaob.eu/event/tuareg-rally-2027/
CATEGORIES:Rally's
ATTACH;FMTTYPE=image/jpeg:https://www.eaob.eu/wp-content/uploads/2021/02/front-banner.jpg
END:VEVENT
END:VCALENDAR